BEGIN:VCALENDAR
VERSION:2.0
PRODID:-//St John XXIII Catholic Parish Glenwood-Stanhope Gardens - ECPv5.0.3.1//NONSGML v1.0//EN
CALSCALE:GREGORIAN
METHOD:PUBLISH
X-WR-CALNAME:St John XXIII Catholic Parish Glenwood-Stanhope Gardens
X-ORIGINAL-URL:http://john23rd.com
X-WR-CALDESC:Events for St John XXIII Catholic Parish Glenwood-Stanhope Gardens
BEGIN:VTIMEZONE
TZID:UTC
BEGIN:STANDARD
TZOFFSETFROM:+0000
TZOFFSETTO:+0000
TZNAME:UTC
DTSTART:20160101T000000
END:STANDARD
END:VTIMEZONE
BEGIN:VEVENT
DTSTART;TZID=UTC:20160904T113000
DTEND;TZID=UTC:20160904T120000
DTSTAMP:20260422T001526
CREATED:20160806T034525Z
LAST-MODIFIED:20160806T034525Z
UID:1619-1472988600-1472990400@john23rd.com
SUMMARY:SJ23rd Grand Raffle Draw 2016
DESCRIPTION:
URL:http://john23rd.com/event/sj23rd-grand-raffle-draw-2016/
CATEGORIES:Fundraiser
END:VEVENT
END:VCALENDAR