BEGIN:VCALENDAR
VERSION:2.0
PRODID:-//St John XXIII Catholic Parish Glenwood-Stanhope Gardens - ECPv5.0.3.1//NONSGML v1.0//EN
CALSCALE:GREGORIAN
METHOD:PUBLISH
X-WR-CALNAME:St John XXIII Catholic Parish Glenwood-Stanhope Gardens
X-ORIGINAL-URL:http://john23rd.com
X-WR-CALDESC:Events for St John XXIII Catholic Parish Glenwood-Stanhope Gardens
BEGIN:VTIMEZONE
TZID:UTC
BEGIN:STANDARD
TZOFFSETFROM:+0000
TZOFFSETTO:+0000
TZNAME:UTC
DTSTART:20170101T000000
END:STANDARD
END:VTIMEZONE
BEGIN:VEVENT
DTSTART;VALUE=DATE:20170316
DTEND;VALUE=DATE:20170317
DTSTAMP:20260421T071318
CREATED:20170114T114944Z
LAST-MODIFIED:20170302T125629Z
UID:2244-1489622400-1489708799@john23rd.com
SUMMARY:Readings
DESCRIPTION:1st Reading (JB) Jeremiah 17:5-10 \nResp Psalm Ps 1:1-4. 6 \nAcclamation cf Luke 8:15 \nGospel (JB) Luke 16:19-31 \n
URL:http://john23rd.com/event/readings-60/
END:VEVENT
END:VCALENDAR