BEGIN:VCALENDAR
VERSION:2.0
PRODID:-//St John XXIII Catholic Parish Glenwood-Stanhope Gardens - ECPv5.0.3.1//NONSGML v1.0//EN
CALSCALE:GREGORIAN
METHOD:PUBLISH
X-WR-CALNAME:St John XXIII Catholic Parish Glenwood-Stanhope Gardens
X-ORIGINAL-URL:http://john23rd.com
X-WR-CALDESC:Events for St John XXIII Catholic Parish Glenwood-Stanhope Gardens
BEGIN:VTIMEZONE
TZID:UTC
BEGIN:STANDARD
TZOFFSETFROM:+0000
TZOFFSETTO:+0000
TZNAME:UTC
DTSTART:20170101T000000
END:STANDARD
END:VTIMEZONE
BEGIN:VEVENT
DTSTART;VALUE=DATE:20170315
DTEND;VALUE=DATE:20170316
DTSTAMP:20260421T051914
CREATED:20170114T114517Z
LAST-MODIFIED:20170302T124952Z
UID:2242-1489536000-1489622399@john23rd.com
SUMMARY:Readings
DESCRIPTION:1st Reading (JB) Jeremiah 18:18-20 \nResp Psalm Ps 30:5-6. 14-16 \nAcclamation John 8:12 \nGospel (JB) Matthew 20:17-28 \n
URL:http://john23rd.com/event/readings-59/
END:VEVENT
END:VCALENDAR