BEGIN:VCALENDAR
VERSION:2.0
PRODID:-//St John XXIII Catholic Parish Glenwood-Stanhope Gardens - ECPv5.0.3.1//NONSGML v1.0//EN
CALSCALE:GREGORIAN
METHOD:PUBLISH
X-WR-CALNAME:St John XXIII Catholic Parish Glenwood-Stanhope Gardens
X-ORIGINAL-URL:http://john23rd.com
X-WR-CALDESC:Events for St John XXIII Catholic Parish Glenwood-Stanhope Gardens
BEGIN:VTIMEZONE
TZID:UTC
BEGIN:STANDARD
TZOFFSETFROM:+0000
TZOFFSETTO:+0000
TZNAME:UTC
DTSTART:20170101T000000
END:STANDARD
END:VTIMEZONE
BEGIN:VEVENT
DTSTART;VALUE=DATE:20170314
DTEND;VALUE=DATE:20170315
DTSTAMP:20260421T015736
CREATED:20170114T114344Z
LAST-MODIFIED:20170302T125535Z
UID:2240-1489449600-1489535999@john23rd.com
SUMMARY:Readings
DESCRIPTION:1st Reading (JB) Isaiah 1:10\, 16-20 \nResp Psalm Ps 49:8-9. 16-17. 21. 23 \nAcclamation Ezekiel 18:31 \nGospel (JB) Matthew 23:1-12 \n
URL:http://john23rd.com/event/readings-58/
END:VEVENT
END:VCALENDAR