BEGIN:VCALENDAR
VERSION:2.0
PRODID:-//St John XXIII Catholic Parish Glenwood-Stanhope Gardens - ECPv5.0.3.1//NONSGML v1.0//EN
CALSCALE:GREGORIAN
METHOD:PUBLISH
X-WR-CALNAME:St John XXIII Catholic Parish Glenwood-Stanhope Gardens
X-ORIGINAL-URL:http://john23rd.com
X-WR-CALDESC:Events for St John XXIII Catholic Parish Glenwood-Stanhope Gardens
BEGIN:VTIMEZONE
TZID:UTC
BEGIN:STANDARD
TZOFFSETFROM:+0000
TZOFFSETTO:+0000
TZNAME:UTC
DTSTART:20170101T000000
END:STANDARD
END:VTIMEZONE
BEGIN:VEVENT
DTSTART;VALUE=DATE:20170313
DTEND;VALUE=DATE:20170314
DTSTAMP:20260421T002606
CREATED:20170304T004246Z
LAST-MODIFIED:20170304T004449Z
UID:2331-1489363200-1489449599@john23rd.com
SUMMARY:Readings
DESCRIPTION:1st Reading  (JB) Daniel 9:4-10 \nResp Psalm Ps 78:8-9. 11. 13 \nAcclamation cf John 6:63. 68 \nGospel (JB) Luke 6:36-38 \n
URL:http://john23rd.com/event/readings-57/
END:VEVENT
END:VCALENDAR