BEGIN:VCALENDAR
VERSION:2.0
PRODID:-//St John XXIII Catholic Parish Glenwood-Stanhope Gardens - ECPv5.0.3.1//NONSGML v1.0//EN
CALSCALE:GREGORIAN
METHOD:PUBLISH
X-WR-CALNAME:St John XXIII Catholic Parish Glenwood-Stanhope Gardens
X-ORIGINAL-URL:http://john23rd.com
X-WR-CALDESC:Events for St John XXIII Catholic Parish Glenwood-Stanhope Gardens
BEGIN:VTIMEZONE
TZID:UTC
BEGIN:STANDARD
TZOFFSETFROM:+0000
TZOFFSETTO:+0000
TZNAME:UTC
DTSTART:20170101T000000
END:STANDARD
END:VTIMEZONE
BEGIN:VEVENT
DTSTART;VALUE=DATE:20170312
DTEND;VALUE=DATE:20170313
DTSTAMP:20260420T225544
CREATED:20170114T114034Z
LAST-MODIFIED:20170302T124913Z
UID:2236-1489276800-1489363199@john23rd.com
SUMMARY:Readings
DESCRIPTION:1st Reading (JB) Genesis 12:1-4 \nResp Psalm Ps 32:4-5. 18-20. 22 \n2nd Reading (JB) 2 Timothy 1:8-10 \nAcclamation Matthew 17:5 \nGospel (JB) Matthew 17:1-9 \n
URL:http://john23rd.com/event/readings-56/
END:VEVENT
END:VCALENDAR