BEGIN:VCALENDAR
VERSION:2.0
PRODID:-//St John XXIII Catholic Parish Glenwood-Stanhope Gardens - ECPv5.0.3.1//NONSGML v1.0//EN
CALSCALE:GREGORIAN
METHOD:PUBLISH
X-WR-CALNAME:St John XXIII Catholic Parish Glenwood-Stanhope Gardens
X-ORIGINAL-URL:http://john23rd.com
X-WR-CALDESC:Events for St John XXIII Catholic Parish Glenwood-Stanhope Gardens
BEGIN:VTIMEZONE
TZID:UTC
BEGIN:STANDARD
TZOFFSETFROM:+0000
TZOFFSETTO:+0000
TZNAME:UTC
DTSTART:20170101T000000
END:STANDARD
END:VTIMEZONE
BEGIN:VEVENT
DTSTART;VALUE=DATE:20170307
DTEND;VALUE=DATE:20170308
DTSTAMP:20260420T225543
CREATED:20170114T113050Z
LAST-MODIFIED:20170302T124216Z
UID:2226-1488844800-1488931199@john23rd.com
SUMMARY:Readings
DESCRIPTION:1st Reading (JB) Isaiah 55:10-11 \nResp Psalm Ps 33:4-7. 16-19 \nAcclamation Matthew 4:4 \nGospel (JB) Matthew 6:7-15 \n
URL:http://john23rd.com/event/readings-51/
END:VEVENT
END:VCALENDAR