BEGIN:VCALENDAR
VERSION:2.0
PRODID:-//St John XXIII Catholic Parish Glenwood-Stanhope Gardens - ECPv5.0.3.1//NONSGML v1.0//EN
CALSCALE:GREGORIAN
METHOD:PUBLISH
X-WR-CALNAME:St John XXIII Catholic Parish Glenwood-Stanhope Gardens
X-ORIGINAL-URL:http://john23rd.com
X-WR-CALDESC:Events for St John XXIII Catholic Parish Glenwood-Stanhope Gardens
BEGIN:VTIMEZONE
TZID:UTC
BEGIN:STANDARD
TZOFFSETFROM:+0000
TZOFFSETTO:+0000
TZNAME:UTC
DTSTART:20170101T000000
END:STANDARD
END:VTIMEZONE
BEGIN:VEVENT
DTSTART;VALUE=DATE:20170306
DTEND;VALUE=DATE:20170307
DTSTAMP:20260420T225638
CREATED:20170114T112846Z
LAST-MODIFIED:20170302T125349Z
UID:2224-1488758400-1488844799@john23rd.com
SUMMARY:Readings
DESCRIPTION:1st Reading (JB) Leviticus 19:1-2\, 11-18 \nResp Psalm Ps 18:8-10. 15 \nAcclamation 2 Corinthians 6:2 \nGospel (JB) Matthew 25:31-46 \n
URL:http://john23rd.com/event/readings-50/
END:VEVENT
END:VCALENDAR