BEGIN:VCALENDAR
VERSION:2.0
PRODID:-//St John XXIII Catholic Parish Glenwood-Stanhope Gardens - ECPv5.0.3.1//NONSGML v1.0//EN
CALSCALE:GREGORIAN
METHOD:PUBLISH
X-WR-CALNAME:St John XXIII Catholic Parish Glenwood-Stanhope Gardens
X-ORIGINAL-URL:http://john23rd.com
X-WR-CALDESC:Events for St John XXIII Catholic Parish Glenwood-Stanhope Gardens
BEGIN:VTIMEZONE
TZID:UTC
BEGIN:STANDARD
TZOFFSETFROM:+0000
TZOFFSETTO:+0000
TZNAME:UTC
DTSTART:20170101T000000
END:STANDARD
END:VTIMEZONE
BEGIN:VEVENT
DTSTART;VALUE=DATE:20170304
DTEND;VALUE=DATE:20170305
DTSTAMP:20260421T003251
CREATED:20170114T112131Z
LAST-MODIFIED:20170302T124122Z
UID:2220-1488585600-1488671999@john23rd.com
SUMMARY:Readings
DESCRIPTION:1st Reading (JB) Isaiah 58:9-14 \nResp Psalm Ps 85:1-6 \nAcclamation Ezekiel 33:11 \nGospel (JB) Luke 5:27-32 \n
URL:http://john23rd.com/event/readings-48/
END:VEVENT
END:VCALENDAR