BEGIN:VCALENDAR
VERSION:2.0
PRODID:-//St John XXIII Catholic Parish Glenwood-Stanhope Gardens - ECPv5.0.3.1//NONSGML v1.0//EN
CALSCALE:GREGORIAN
METHOD:PUBLISH
X-WR-CALNAME:St John XXIII Catholic Parish Glenwood-Stanhope Gardens
X-ORIGINAL-URL:http://john23rd.com
X-WR-CALDESC:Events for St John XXIII Catholic Parish Glenwood-Stanhope Gardens
BEGIN:VTIMEZONE
TZID:UTC
BEGIN:STANDARD
TZOFFSETFROM:+0000
TZOFFSETTO:+0000
TZNAME:UTC
DTSTART:20170101T000000
END:STANDARD
END:VTIMEZONE
BEGIN:VEVENT
DTSTART;TZID=UTC:20170226T070000
DTEND;TZID=UTC:20170226T190000
DTSTAMP:20260421T053353
CREATED:20170107T010551Z
LAST-MODIFIED:20170107T010551Z
UID:2160-1488092400-1488135600@john23rd.com
SUMMARY:Readings
DESCRIPTION:1st Reading (JB) Isaiah 49:14-15 \nResp Psalm Ps 61:2-3. 6-9 \n2nd Reading (JB) 1 Corinthians 4:1-5 \nAcclamation Hebrews 4:12 \nGospel (JB) Matthew 6:24-34 \n
URL:http://john23rd.com/event/readings-42/
END:VEVENT
END:VCALENDAR