BEGIN:VCALENDAR
VERSION:2.0
PRODID:-//St John XXIII Catholic Parish Glenwood-Stanhope Gardens - ECPv5.0.3.1//NONSGML v1.0//EN
CALSCALE:GREGORIAN
METHOD:PUBLISH
X-WR-CALNAME:St John XXIII Catholic Parish Glenwood-Stanhope Gardens
X-ORIGINAL-URL:http://john23rd.com
X-WR-CALDESC:Events for St John XXIII Catholic Parish Glenwood-Stanhope Gardens
BEGIN:VTIMEZONE
TZID:UTC
BEGIN:STANDARD
TZOFFSETFROM:+0000
TZOFFSETTO:+0000
TZNAME:UTC
DTSTART:20160101T000000
END:STANDARD
END:VTIMEZONE
BEGIN:VEVENT
DTSTART;TZID=UTC:20160807T103000
DTEND;TZID=UTC:20160807T120000
DTSTAMP:20260422T020609
CREATED:20160716T053901Z
LAST-MODIFIED:20160716T053901Z
UID:1587-1470565800-1470571200@john23rd.com
SUMMARY:Installation of Fr John as Parish Priest
DESCRIPTION:Come & join us as we finally have the formal installation of Fr John McSweeney as Parish Priest of St John 23rd. Mass will be officiated by Bishop Vincent Long. \n
URL:http://john23rd.com/event/installation-of-fr-john-as-parish-priest/
END:VEVENT
END:VCALENDAR