BEGIN:VCALENDAR
VERSION:2.0
PRODID:-//St John XXIII Catholic Parish Glenwood-Stanhope Gardens - ECPv5.0.3.1//NONSGML v1.0//EN
CALSCALE:GREGORIAN
METHOD:PUBLISH
X-WR-CALNAME:St John XXIII Catholic Parish Glenwood-Stanhope Gardens
X-ORIGINAL-URL:http://john23rd.com
X-WR-CALDESC:Events for St John XXIII Catholic Parish Glenwood-Stanhope Gardens
BEGIN:VTIMEZONE
TZID:UTC
BEGIN:STANDARD
TZOFFSETFROM:+0000
TZOFFSETTO:+0000
TZNAME:UTC
DTSTART:20160101T000000
END:STANDARD
END:VTIMEZONE
BEGIN:VEVENT
DTSTART;TZID=UTC:20160814T163000
DTEND;TZID=UTC:20160814T193000
DTSTAMP:20260422T020226
CREATED:20160806T033709Z
LAST-MODIFIED:20160806T033929Z
UID:1614-1471192200-1471203000@john23rd.com
SUMMARY:GTK Youth Group
DESCRIPTION:GTK (Getting to Know) \nSt John XXIII Parish youth group where our young  people get to know God\, the Catholic faith and each other through Gospel reflection\, music\, active participation at mass\, games and food! \nSo\, if you are in years 4 – 9\, come along to one of our sessions and let us grow together in our faith. \nWhen:       2nd (choir) and 4th Sunday \nWhere:      St Mark’s Staff Room \nTime:       4:30 – 7:30 pm \nContact: gtkyouth@gmail.com \nInfo:  http://www.gtkyouth.com/ \n  \n
URL:http://john23rd.com/event/gtk-youth-group/
LOCATION:Staffroom – St John XXIII Catholic College\, Perfection Avenue\, Stanhope Gardens\, NSW\, 2768\, Austria
ATTACH;FMTTYPE=image/jpeg:http://john23rd.com/wp-content/uploads/2016/08/GTK.jpg
END:VEVENT
END:VCALENDAR