BEGIN:VCALENDAR
VERSION:2.0
PRODID:-//St John XXIII Catholic Parish Glenwood-Stanhope Gardens - ECPv5.0.3.1//NONSGML v1.0//EN
CALSCALE:GREGORIAN
METHOD:PUBLISH
X-WR-CALNAME:St John XXIII Catholic Parish Glenwood-Stanhope Gardens
X-ORIGINAL-URL:http://john23rd.com
X-WR-CALDESC:Events for St John XXIII Catholic Parish Glenwood-Stanhope Gardens
BEGIN:VTIMEZONE
TZID:UTC
BEGIN:STANDARD
TZOFFSETFROM:+0000
TZOFFSETTO:+0000
TZNAME:UTC
DTSTART:20160101T000000
END:STANDARD
END:VTIMEZONE
BEGIN:VEVENT
DTSTART;TZID=UTC:20160912T090000
DTEND;TZID=UTC:20160912T170000
DTSTAMP:20260422T000811
CREATED:20160813T021154Z
LAST-MODIFIED:20160813T021154Z
UID:1638-1473670800-1473699600@john23rd.com
SUMMARY:First Reconciliation start of Enrolment
DESCRIPTION:For children who are baptized Catholic and in year 3. \nForms are available at the parish office or the church foyer or can be downloaded from the church website. \n
URL:http://john23rd.com/event/first-reconciliation-start-of-enrolment/
END:VEVENT
END:VCALENDAR