BEGIN:VCALENDAR
VERSION:2.0
PRODID:-//St John XXIII Catholic Parish Glenwood-Stanhope Gardens - ECPv5.0.3.1//NONSGML v1.0//EN
CALSCALE:GREGORIAN
METHOD:PUBLISH
X-WR-CALNAME:St John XXIII Catholic Parish Glenwood-Stanhope Gardens
X-ORIGINAL-URL:http://john23rd.com
X-WR-CALDESC:Events for St John XXIII Catholic Parish Glenwood-Stanhope Gardens
BEGIN:VTIMEZONE
TZID:UTC
BEGIN:STANDARD
TZOFFSETFROM:+0000
TZOFFSETTO:+0000
TZNAME:UTC
DTSTART:20170101T000000
END:STANDARD
END:VTIMEZONE
BEGIN:VEVENT
DTSTART;TZID=UTC:20170305T073000
DTEND;TZID=UTC:20170305T120000
DTSTAMP:20260420T225708
CREATED:20170304T010305Z
LAST-MODIFIED:20170304T010305Z
UID:2346-1488699000-1488715200@john23rd.com
SUMMARY:Cake Angels Stall
DESCRIPTION:
URL:http://john23rd.com/event/cake-angels-stall/
CATEGORIES:Fundraiser
END:VEVENT
END:VCALENDAR