BEGIN:VCALENDAR
VERSION:2.0
PRODID:-//St John XXIII Catholic Parish Glenwood-Stanhope Gardens - ECPv5.0.3.1//NONSGML v1.0//EN
CALSCALE:GREGORIAN
METHOD:PUBLISH
X-WR-CALNAME:St John XXIII Catholic Parish Glenwood-Stanhope Gardens
X-ORIGINAL-URL:http://john23rd.com
X-WR-CALDESC:Events for St John XXIII Catholic Parish Glenwood-Stanhope Gardens
BEGIN:VTIMEZONE
TZID:UTC
BEGIN:STANDARD
TZOFFSETFROM:+0000
TZOFFSETTO:+0000
TZNAME:UTC
DTSTART:20170101T000000
END:STANDARD
END:VTIMEZONE
BEGIN:VEVENT
DTSTART;VALUE=DATE:20170301
DTEND;VALUE=DATE:20170302
DTSTAMP:20260421T003823
CREATED:20170114T111156Z
LAST-MODIFIED:20170302T123527Z
UID:2214-1488326400-1488412799@john23rd.com
SUMMARY:Ash Wednesday
DESCRIPTION:
URL:http://john23rd.com/event/ash-wednesday-2/
END:VEVENT
END:VCALENDAR